BEGIN:VCALENDAR
VERSION:2.0
PRODID:-//Orthodox Jewish Nurses Association - ECPv6.15.20//NONSGML v1.0//EN
CALSCALE:GREGORIAN
METHOD:PUBLISH
X-ORIGINAL-URL:https://ojna.org
X-WR-CALDESC:Events for Orthodox Jewish Nurses Association
REFRESH-INTERVAL;VALUE=DURATION:PT1H
X-Robots-Tag:noindex
X-PUBLISHED-TTL:PT1H
BEGIN:VTIMEZONE
TZID:America/New_York
BEGIN:DAYLIGHT
TZOFFSETFROM:-0500
TZOFFSETTO:-0400
TZNAME:EDT
DTSTART:20240310T070000
END:DAYLIGHT
BEGIN:STANDARD
TZOFFSETFROM:-0400
TZOFFSETTO:-0500
TZNAME:EST
DTSTART:20241103T060000
END:STANDARD
BEGIN:DAYLIGHT
TZOFFSETFROM:-0500
TZOFFSETTO:-0400
TZNAME:EDT
DTSTART:20250309T070000
END:DAYLIGHT
BEGIN:STANDARD
TZOFFSETFROM:-0400
TZOFFSETTO:-0500
TZNAME:EST
DTSTART:20251102T060000
END:STANDARD
BEGIN:DAYLIGHT
TZOFFSETFROM:-0500
TZOFFSETTO:-0400
TZNAME:EDT
DTSTART:20260308T070000
END:DAYLIGHT
BEGIN:STANDARD
TZOFFSETFROM:-0400
TZOFFSETTO:-0500
TZNAME:EST
DTSTART:20261101T060000
END:STANDARD
BEGIN:DAYLIGHT
TZOFFSETFROM:-0500
TZOFFSETTO:-0400
TZNAME:EDT
DTSTART:20270314T070000
END:DAYLIGHT
BEGIN:STANDARD
TZOFFSETFROM:-0400
TZOFFSETTO:-0500
TZNAME:EST
DTSTART:20271107T060000
END:STANDARD
END:VTIMEZONE
BEGIN:VEVENT
DTSTART;TZID=America/New_York:20260128T200000
DTEND;TZID=America/New_York:20260128T210000
DTSTAMP:20260423T132318
CREATED:20260121T200553Z
LAST-MODIFIED:20260121T200553Z
UID:8357-1769630400-1769634000@ojna.org
SUMMARY:Navigating Antisemitism in the Workplace (Members-Only Zoom)
DESCRIPTION:Members-only Zoom event for the OJNA community \nOJNA is hosting a private Zoom session in collaboration with AJMA to support nurses navigating antisemitism in the workplace. \nThis session will provide practical guidance from both legal and psychological perspectives\, with a focus on clarity\, empowerment\, and support in a safe and trusted space. \nTopics will include: \n\nUnderstanding what constitutes an actionable complaint\nResponding to antisemitic microaggressions\nWhen and how to report incidents\nPractical strategies for navigating difficult workplace situations\n\nAdditional community benefit:\nAJMA is offering 25% off AJMA membership to members of the OJNA community. Registered attendees may reply to the event email for more information. \nImportant notes: \n\nThis session is not recorded\nRecording or capturing any part of the discussion is not permitted\nThe Zoom link will be shared only with registered attendees\n\nGuest policy:Each OJNA member may invite one guest who is a nurse\, Advance Practice Nurse\, or nursing student. Guests must be registered by an OJNA member in advance to receive access.
URL:https://ojna.org/future-event/navigating-antisemitism-in-the-workplace-members-only-zoom/
LOCATION:Virtual (Zoom)
CATEGORIES:Educational Webinars
ATTACH;FMTTYPE=image/png:https://ojna.org/wp-content/uploads/2026/01/OJNA-w-AJMA-Members-only-zoom-event-3.png
ORGANIZER;CN="Orthodox Jewish Nurses Association":MAILTO:ojnaboard@gmail.com
END:VEVENT
BEGIN:VEVENT
DTSTART;TZID=America/New_York:20251112T080000
DTEND;TZID=America/New_York:20251112T170000
DTSTAMP:20260423T132318
CREATED:20250618T011047Z
LAST-MODIFIED:20250820T034227Z
UID:7321-1762934400-1762966800@ojna.org
SUMMARY:(signup now open) OJNA Annual Conference 2025
DESCRIPTION:We’re excited to invite you to the OJNA Annual Conference 2025\, taking place Wednesday\, November 12\, 2025 at The Grand Event Space in Passaic\, NJ! \nThis year’s event is new and improved\, with a full day of engaging content\, hands-on learning\, and community connection. \n✨ What to Expect: \n\n\nBrand new topics relevant to today’s nursing landscape \n\n\nDynamic speakers from across the healthcare spectrum \n\n\nHands-on interactive panels and workshops \n\n\nDelicious food \n\n\nFree onsite parking \n\n\nMeaningful networking opportunities with fellow Jewish nurses \n\n\n📍 Location: The Grand Event Space\, Passaic\, NJ📆 Date: Wednesday\, November 12\, 2025 \nRegistration is now open here: https://ojna.org/2025-annual-conference-registration/. Use code EarlyBird25 for 20% off until 10-31-25.
URL:https://ojna.org/future-event/ojna-annual-conference-2025/
LOCATION:The Grand Event Space\, 217 Brook Ave\, Passaic\, NJ\, 07055\, United States
CATEGORIES:Annual Conference
END:VEVENT
BEGIN:VEVENT
DTSTART;VALUE=DATE:20251001
DTEND;VALUE=DATE:20260102
DTSTAMP:20260423T132318
CREATED:20250423T224201Z
LAST-MODIFIED:20260121T201054Z
UID:6728-1759276800-1767311999@ojna.org
SUMMARY:Pastoral Training Fellowship: End-of-Life Care for Orthodox Women
DESCRIPTION:  \nThis unique 9-month\, text-based fellowship is designed to empower Orthodox Jewish women with Torah-rooted knowledge and practical tools to offer compassionate support and leadership around the challenges of end-of-life care. \n\nWho Should Apply:\n\nOrthodox women living in North America\nTorah learning background\nInvolved in community education or fields related to end-of-life care\nAble to commit to 5–6 hours/week (sessions + preparation)\nPassionate about learning Torah and supporting the community\n\n\nProgram Details:\n\nDates: 2025-2026 academic year\nFormat: Fully online\, 2-hour live sessions (weekly Torah learning + workshops)\nLed by: Rabbi Dr. Shlomo Brody & Rabbi Dr. Jason Weiner\nGuest lectures from top rabbis & healthcare professionals\nOpportunities to write\, speak\, and publish\nMonthly stipend for participants\n\n\nRolling applications now open!\n👉 Learn more + apply: https://ematai.org/fellowship \n\n📎 See the flyer below for full fellowship details. \n \n 
URL:https://ojna.org/future-event/pastoral-training-fellowship-end-of-life-care-for-orthodox-women/
LOCATION:Virtual (Zoom)
END:VEVENT
BEGIN:VEVENT
DTSTART;TZID=America/New_York:20250611T200000
DTEND;TZID=America/New_York:20250611T220000
DTSTAMP:20260423T132318
CREATED:20250606T154023Z
LAST-MODIFIED:20250606T154023Z
UID:7166-1749672000-1749679200@ojna.org
SUMMARY:Scrubs & Sushi Night
DESCRIPTION:We’re excited to invite you to a unique Nurses Night Out — Scrubs & Sushi Night\, a fun and hands-on sushi-making class just for nurses! \n\n\n\n\n\n\n📅 Date: Wednesday\, June 11\, 2025  \n\n\n\n\n\n\n🕗 Time: 8:00 PM  \n\n\n\n\n\n\n📍 Location: Provided upon RSVP \n\n\n\n\n\n\nWhat’s included:  \n\n\n\n\n\n\n🍣 Sushi rolling tutorial with a printable take-home guide \n🧂 All ingredients and supplies provided \n💬 Great company and a chance to connect with fellow nurses\n\n\n\n\n\n\n🎟️ Free for nurses\, but spots are limited! \n\n\n\n\n\n\n📲 RSVP by June 9 by texting Eliah Perez at 404-647-3985 to reserve your spot.
URL:https://ojna.org/future-event/scrubs-sushi-night/
END:VEVENT
BEGIN:VEVENT
DTSTART;TZID=America/New_York:20250330T200000
DTEND;TZID=America/New_York:20250330T200000
DTSTAMP:20260423T132318
CREATED:20250305T180240Z
LAST-MODIFIED:20250305T181324Z
UID:6371-1743364800-1743364800@ojna.org
SUMMARY:Ematai Panel: Navigating Kibud Av V’em & Aging
DESCRIPTION:Ematai Panel: Navigating Kibud Av V’em & Aging \n\n\n\n\n🗓 Sunday\, March 30 \n\n\n\n\n⏰ 8:00 PM ET  \n\n\n\n\n💻 Join via Zoom \n\n\n\n\nJoin an insightful panel discussion on balancing kibud av v’em with the realities of aging\, cognitive decline\, and shifting parent-child dynamics. \n\n\n\n\nMeet the Panelists: \n\n\n\n\n🩺 Naalla Schreiber\, M.D.\, M.S. \n\n\n\n\nDirector of Psychiatry\, Aizer Health\, NY \n\n\n\n\n🗣️ Rabbi Larry Rothwachs\, LMSW \n\n\n\n\nRabbi of Beth Aaron\, Teaneck \n\n\n\n\n🎤 Moderated by Bassie Taubes\, RN \n\n\n\n\nEmatai’s Director of Community Outreach \n\n\n\n\n✅ Register here: tinyurl.com/kibudavVem \n\n\n\n\n📩 Submit questions in advance: office@ematai.org \n\n\n\n\n📌 Recording available for those who register.  \n\n\n\n\n📎 See the flyer below for full details!
URL:https://ojna.org/future-event/ematai-panel-kibud-av-vem-aging/
LOCATION:Virtual (Zoom)
END:VEVENT
BEGIN:VEVENT
DTSTART;TZID=America/New_York:20250327T190000
DTEND;TZID=America/New_York:20250327T203000
DTSTAMP:20260423T132318
CREATED:20250305T175120Z
LAST-MODIFIED:20250305T175430Z
UID:6366-1743102000-1743107400@ojna.org
SUMMARY:Mock Interview & New Grad Support Event
DESCRIPTION:Mock Interview & New Grad Support Event \n\n\n\n\n🗓 Thursday\, March 27 \n\n\n\n\n⏰ 7:00 – 8:30 PM ET \n\n\n\n\n💻 Join via Zoom (RSVP Required – Limited to 8 Participants) \n\n\n\n\n\nAre you a new grad nurse or looking to strengthen your interview skills? This interactive event will give you hands-on interview practice and insider tips on what recruiters look for. \n\n\n\n\n👥 Co-led by Simone Shafiro & Alya Shor \n\n\n\n\n✅ RSVP here: https://forms.gle/jv7yYdwkubMud8yf7 \n\n\n\n\n📎 See the flyer below for full details!
URL:https://ojna.org/future-event/mock-interview-new-grad-support-event/
LOCATION:Virtual (Zoom)
CATEGORIES:Mock Interview Webinars
END:VEVENT
END:VCALENDAR